BEGIN:VCALENDAR
VERSION:2.0
CALSCALE:GREGORIAN
PRODID:adamgibbons/ics
METHOD:PUBLISH
X-PUBLISHED-TTL:PT1H
BEGIN:VEVENT
UID:75OXk7l6cuURdO37NXos9
SUMMARY:Ballada - Diada de Sant Jordi
DTSTAMP:20260423T143832Z
DTSTART:20260423T113000
DESCRIPTION:\nDescripció: Cobla La Principal de la Bisbal\nCobles: \, Ciuta
	t de Cornellà\, Reus Jove i Conjunt
LOCATION:PALAFRUGELL
DURATION:PT2H
END:VEVENT
END:VCALENDAR
