BEGIN:VCALENDAR
VERSION:2.0
CALSCALE:GREGORIAN
PRODID:adamgibbons/ics
METHOD:PUBLISH
X-PUBLISHED-TTL:PT1H
BEGIN:VEVENT
UID:mLu0dyqxPoVI3YAUzeX9U
SUMMARY:Ballada - Diada de Sant Jordi
DTSTAMP:20260423T142323Z
DTSTART:20260423T170000
DESCRIPTION:\nDescripció: Cobla Nova Vallès\nCobles: \, Ciutat de Cornellà\
	, Reus Jove i Conjunt
LOCATION:SANT FELIU DE CODINES
DURATION:PT2H
END:VEVENT
END:VCALENDAR
