BEGIN:VCALENDAR
VERSION:2.0
CALSCALE:GREGORIAN
PRODID:adamgibbons/ics
METHOD:PUBLISH
X-PUBLISHED-TTL:PT1H
BEGIN:VEVENT
UID:zu6xNYnXkx1RS8cqutrK5
SUMMARY:Ballada - Diada de Sant Jordi
DTSTAMP:20260423T142457Z
DTSTART:20260423T163000
DESCRIPTION:\nDescripció: Cobla Genisenca\nCobles: \, Ciutat de Cornellà\, 
	Reus Jove i Conjunt
LOCATION:LES FRANQUESES DEL VALLÈS
DURATION:PT2H
END:VEVENT
END:VCALENDAR
