BEGIN:VCALENDAR
VERSION:2.0
CALSCALE:GREGORIAN
PRODID:adamgibbons/ics
METHOD:PUBLISH
X-PUBLISHED-TTL:PT1H
BEGIN:VEVENT
UID:yrJ0C7xMPBVkrBjFaDwJM
SUMMARY:Ballada - Diada de Sant Jordi
DTSTAMP:20260423T142322Z
DTSTART:20260423T183000
DESCRIPTION:\nDescripció: Cobla Catània\nCobles: La Principal del Llobregat
	 i Ciutat de Cornellà
LOCATION:VILAFRANCA DEL PENEDÈS
DURATION:PT2H
END:VEVENT
END:VCALENDAR
