BEGIN:VCALENDAR
VERSION:2.0
CALSCALE:GREGORIAN
PRODID:adamgibbons/ics
METHOD:PUBLISH
X-PUBLISHED-TTL:PT1H
BEGIN:VEVENT
UID:S5j4ABcnSpTOiU2n6BjY2
SUMMARY:Ballada - Diada de Sant Jordi
DTSTAMP:20260423T142457Z
DTSTART:20260423T190000
DESCRIPTION:\nDescripció: Cobla Flama de Farners\nCobles: \, Ciutat de Corn
	ellà\, Reus Jove i Conjunt
LOCATION:CALDES DE MALAVELLA
DURATION:PT2H
END:VEVENT
END:VCALENDAR
