BEGIN:VCALENDAR
VERSION:2.0
CALSCALE:GREGORIAN
PRODID:adamgibbons/ics
METHOD:PUBLISH
X-PUBLISHED-TTL:PT1H
BEGIN:VEVENT
UID:uRXT5qmqt9qmCtuePzxQ8
SUMMARY:Ballada - Fires i Festes de la Santa Creu
DTSTAMP:20260425T145139Z
DTSTART:20260425T110000
DESCRIPTION:\nDescripció: Cobla Montgrins\nCobla: Montgrins
LOCATION:FIGUERES
DURATION:PT2H
END:VEVENT
END:VCALENDAR
