BEGIN:VCALENDAR
VERSION:2.0
CALSCALE:GREGORIAN
PRODID:adamgibbons/ics
METHOD:PUBLISH
X-PUBLISHED-TTL:PT1H
BEGIN:VEVENT
UID:TjvJtxpAQuoyRhBpgCXS_
SUMMARY:Setmana Cultural
DTSTAMP:20260425T144106Z
DTSTART:20260425T120000
DESCRIPTION:\nCobla: Ressò Dansaires del Penedès
LOCATION:Plaça de l'1 d'octubre - BONASTRE
DURATION:PT2H
END:VEVENT
END:VCALENDAR
