BEGIN:VCALENDAR
VERSION:2.0
CALSCALE:GREGORIAN
PRODID:adamgibbons/ics
METHOD:PUBLISH
X-PUBLISHED-TTL:PT1H
BEGIN:VEVENT
UID:OHSXWcyyg5BL9of3CMaSP
SUMMARY:Festa de la primavera
DTSTAMP:20260425T143021Z
DTSTART:20260425T180000
DESCRIPTION:\nCobla: Ressò Dansaires del Penedès
LOCATION:Plaça 1 d'Octubre - SANTA FE DEL PENEDÈS
DURATION:PT2H
END:VEVENT
END:VCALENDAR
