BEGIN:VCALENDAR
VERSION:2.0
CALSCALE:GREGORIAN
PRODID:adamgibbons/ics
METHOD:PUBLISH
X-PUBLISHED-TTL:PT1H
BEGIN:VEVENT
UID:pf_Jb6h8L_sZU0r8Jr_7y
SUMMARY:Diada de Sant Jordi
DTSTAMP:20260423T182458Z
DTSTART:20260423T113000
DESCRIPTION:\nCobla: Ciutat de Girona
GEO:42.182559;2.486816
LOCATION:Plaça de l'1 d'octubre - OLOT
DURATION:PT2H
END:VEVENT
END:VCALENDAR
