BEGIN:VCALENDAR
VERSION:2.0
CALSCALE:GREGORIAN
PRODID:adamgibbons/ics
METHOD:PUBLISH
X-PUBLISHED-TTL:PT1H
BEGIN:VEVENT
UID:HjbVIk-jgmGNPhtdZGmJr
SUMMARY:2n Corre Sardanes
DTSTAMP:20260425T144528Z
DTSTART:20260425T110000
DESCRIPTION:\nDescripció: Plaça de l'església - Plaça Miramar - Parc Maria 
	Martori\nCobla: Música enregistrada
LOCATION:MONT-ROIG DEL CAMP
DURATION:PT2H
END:VEVENT
END:VCALENDAR
