BEGIN:VCALENDAR
VERSION:2.0
CALSCALE:GREGORIAN
PRODID:adamgibbons/ics
METHOD:PUBLISH
X-PUBLISHED-TTL:PT1H
BEGIN:VEVENT
UID:_pbP12Op0KPu9VS5YQOUn
SUMMARY:Diada de Sant Jordi
DTSTAMP:20260423T181827Z
DTSTART:20260423T110000
DESCRIPTION:\nDescripció: 3ª Trobada sardanista d'alumnes de 4t de primària
	 de les escoles de Roses\nCobla: La Flama de Farners
GEO:42.26408;3.176772
LOCATION:Plaça del Teatre - ROSES
DURATION:PT2H
END:VEVENT
END:VCALENDAR
