BEGIN:VCALENDAR
VERSION:2.0
CALSCALE:GREGORIAN
PRODID:adamgibbons/ics
METHOD:PUBLISH
X-PUBLISHED-TTL:PT1H
BEGIN:VEVENT
UID:aDd1PnU5xhHUL4B7945Zo
SUMMARY:Diada de Sant Jordi
DTSTAMP:20260425T143021Z
DTSTART:20260425T123000
DESCRIPTION:\nCobla: La Principal de Banyoles
GEO:42.155263;2.990708
LOCATION:Local Social - SANT MORI
DURATION:PT2H
END:VEVENT
END:VCALENDAR
