BEGIN:VCALENDAR
VERSION:2.0
CALSCALE:GREGORIAN
PRODID:adamgibbons/ics
METHOD:PUBLISH
X-PUBLISHED-TTL:PT1H
BEGIN:VEVENT
UID:1DCqGco4N-bstphIsYvm2
SUMMARY:Diada de Sant Jordi
DTSTAMP:20260425T144052Z
DTSTART:20260425T190000
DESCRIPTION:\nCobla: La Nova Vallès
LOCATION:Aparcament del carrer de l'Aliança - LLIÇÀ D'AMUNT
DURATION:PT2H
END:VEVENT
END:VCALENDAR
